BEGIN:VCALENDAR
VERSION:2.0
PRODID:-//ChamberMaster//Event Calendar 2.0//EN
METHOD:PUBLISH
X-PUBLISHED-TTL:P3D
REFRESH-INTERVAL:P3D
CALSCALE:GREGORIAN
BEGIN:VEVENT
DTSTART:20180324T000000Z
DTEND:20180324T020000Z
X-MICROSOFT-CDO-ALLDAYEVENT:FALSE
SUMMARY:Cabaret
DESCRIPTION:Welcome to the infamous Kit Kat Klub\, where the Emcee\, Sally Bowles and a raucous ensemble take the stage to tantalize the crowd and leave their troubles outside. But as life in pre-WWII Germany grows more and more uncertain\, will the decadent allure of Berlin nightlife be enough to get them through their dangerous times? Come listen and enjoy some of the most memorable songs in theatre history\, including "Cabaret\," "Willkommen\," and "Maybe This Time." For more information and a schedule of upcoming events at The Whiting visit thewhiting.com.
X-ALT-DESC;FMTTYPE=text/html:<span style="color: rgb(51\, 51\, 51)\; font-family: sans-serif\, Arial\, Verdana\, &quot\;Trebuchet MS&quot\;\; font-size: 13px\; background-color: rgb(255\, 255\, 255)\;">Welcome to the infamous Kit Kat&nbsp\;</span>Klub<span style="color: rgb(51\, 51\, 51)\; font-family: sans-serif\, Arial\, Verdana\, &quot\;Trebuchet MS&quot\;\; font-size: 13px\; background-color: rgb(255\, 255\, 255)\;">\, where the Emcee\, Sally Bowles and a raucous ensemble take the stage to tantalize the crowd and leave their troubles outside. But as life in pre-WWII Germany grows more and more uncertain\, will the decadent allure of Berlin nightlife be enough to get them through their dangerous times? Come listen and enjoy some of the most memorable songs in&nbsp\;</span>theatre<span style="color: rgb(51\, 51\, 51)\; font-family: sans-serif\, Arial\, Verdana\, &quot\;Trebuchet MS&quot\;\; font-size: 13px\; background-color: rgb(255\, 255\, 255)\;">&nbsp\;history\, including &ldquo\;Cabaret\,&rdquo\; &ldquo\;</span>Willkommen<span style="color: rgb(51\, 51\, 51)\; font-family: sans-serif\, Arial\, Verdana\, &quot\;Trebuchet MS&quot\;\; font-size: 13px\; background-color: rgb(255\, 255\, 255)\;">\,&rdquo\; and &ldquo\;Maybe This Time.&rdquo\; For more information and a schedule of upcoming events at The Whiting visit&nbsp\;</span><a href="http://www.thewhiting.com/" style="color: rgb(7\, 130\, 193)\; font-family: sans-serif\, Arial\, Verdana\, &quot\;Trebuchet MS&quot\;\; font-size: 13px\;" target="_blank">thewhiting.com</a><span style="color: rgb(51\, 51\, 51)\; font-family: sans-serif\, Arial\, Verdana\, &quot\;Trebuchet MS&quot\;\; font-size: 13px\; background-color: rgb(255\, 255\, 255)\;">.</span>
LOCATION:The Whiting 1241 E. Kearsley Street Flint\, MI 48503
UID:e.2606.6709
SEQUENCE:3
DTSTAMP:20260421T013540Z
URL:http://flintandgeneseemi.chambermaster.com/events/details/cabaret-6709
END:VEVENT

END:VCALENDAR
